BEGIN:VCALENDAR
VERSION:2.0
PRODID:-//UMaine AI - ECPv6.15.17.1//NONSGML v1.0//EN
CALSCALE:GREGORIAN
METHOD:PUBLISH
X-WR-CALNAME:UMaine AI
X-ORIGINAL-URL:https://ai.umaine.edu
X-WR-CALDESC:Events for UMaine AI
REFRESH-INTERVAL;VALUE=DURATION:PT1H
X-Robots-Tag:noindex
X-PUBLISHED-TTL:PT1H
BEGIN:VTIMEZONE
TZID:America/New_York
BEGIN:DAYLIGHT
TZOFFSETFROM:-0500
TZOFFSETTO:-0400
TZNAME:EDT
DTSTART:20190310T070000
END:DAYLIGHT
BEGIN:STANDARD
TZOFFSETFROM:-0400
TZOFFSETTO:-0500
TZNAME:EST
DTSTART:20191103T060000
END:STANDARD
BEGIN:DAYLIGHT
TZOFFSETFROM:-0500
TZOFFSETTO:-0400
TZNAME:EDT
DTSTART:20200308T070000
END:DAYLIGHT
BEGIN:STANDARD
TZOFFSETFROM:-0400
TZOFFSETTO:-0500
TZNAME:EST
DTSTART:20201101T060000
END:STANDARD
BEGIN:DAYLIGHT
TZOFFSETFROM:-0500
TZOFFSETTO:-0400
TZNAME:EDT
DTSTART:20210314T070000
END:DAYLIGHT
BEGIN:STANDARD
TZOFFSETFROM:-0400
TZOFFSETTO:-0500
TZNAME:EST
DTSTART:20211107T060000
END:STANDARD
BEGIN:DAYLIGHT
TZOFFSETFROM:-0500
TZOFFSETTO:-0400
TZNAME:EDT
DTSTART:20220313T070000
END:DAYLIGHT
BEGIN:STANDARD
TZOFFSETFROM:-0400
TZOFFSETTO:-0500
TZNAME:EST
DTSTART:20221106T060000
END:STANDARD
BEGIN:DAYLIGHT
TZOFFSETFROM:-0500
TZOFFSETTO:-0400
TZNAME:EDT
DTSTART:20230312T070000
END:DAYLIGHT
BEGIN:STANDARD
TZOFFSETFROM:-0400
TZOFFSETTO:-0500
TZNAME:EST
DTSTART:20231105T060000
END:STANDARD
END:VTIMEZONE
BEGIN:VEVENT
DTSTART;TZID=America/New_York:20220901T120000
DTEND;TZID=America/New_York:20220901T130000
DTSTAMP:20260423T152846
CREATED:20220816T184206Z
LAST-MODIFIED:20220816T184725Z
UID:10000012-1662033600-1662037200@ai.umaine.edu
SUMMARY:AI for Public Safety- Webinar
DESCRIPTION:“Staying Ahead in the Age of Billion Dollar Disasters: How one Startup uses AI to Help Teams Leverage Situational Awareness During Disasters and Other Safety Threats” \nRegister Here!
URL:https://ai.umaine.edu/event/ai-for-public-safety-webinar/
LOCATION:Virtual
CATEGORIES:Webinars
ATTACH;FMTTYPE=image/jpeg:https://ai.umaine.edu/wp-content/uploads/sites/563/2022/01/AI-Logo-for-ai-website.jpg
END:VEVENT
BEGIN:VEVENT
DTSTART;TZID=America/New_York:20201203T120000
DTEND;TZID=America/New_York:20201203T130000
DTSTAMP:20260423T152846
CREATED:20200913T220556Z
LAST-MODIFIED:20200913T223046Z
UID:10000011-1606996800-1607000400@ai.umaine.edu
SUMMARY:Social\, Ethical\, Policy and Legal Considerations
DESCRIPTION:This one-hour live webinar on December 3\, 2020 is the fourth in the UMaine AI Fall Lunch and Learn series. \nGuest speakers will discuss topics with time for Q&A. \n\nManuel Woersdoerfer\, Assistant Professor of Computing and Information Science\, UMaine\nLeigh Saufley\, Dean of the University of Maine School of Law\nJim Isaak\, Past President of IEEE Computer Society\, IEEE NH Section Chair\n\nThose interested in attending the free Zoom session must register:  Register for Dec. 3 Webinar \nFor full list of the events in this series please download the 2020 Fall Lunch and Learn Flyer. \nSponsored by the University of Maine\, IEEE Maine COM/CS Joint Chapter and IEEE Region-1. \nContact: um.ai@maine.edu
URL:https://ai.umaine.edu/event/social-ethical-policy-and-legal-considerations/
LOCATION:Virtual
CATEGORIES:Lunch and Learn
END:VEVENT
BEGIN:VEVENT
DTSTART;TZID=America/New_York:20201105T120000
DTEND;TZID=America/New_York:20201105T130000
DTSTAMP:20260423T152846
CREATED:20200913T220354Z
LAST-MODIFIED:20200913T222615Z
UID:10000010-1604577600-1604581200@ai.umaine.edu
SUMMARY:Education and Workforce Development
DESCRIPTION:This one-hour live webinar on November 5\, 2020 is the third in the UMaine AI Fall Lunch and Learn series. \nGuest speakers will discuss topics with time for Q&A. \n\nYifeng Zhu\, Professor of Electrical and Computer Engineering\, UMaine\nTorsten Hahmann\, Associate Professor of Computing and Information Science\, UMaine\nWalter Rawle\, Chair IEEE Maine Section\n\nThose interested in attending the free Zoom session must register:  Register for Nov. 5 Webinar \nFor full list of the events in this series please download the 2020 Fall Lunch and Learn Flyer. \nSponsored by the University of Maine\, IEEE Maine COM/CS Joint Chapter and IEEE Region-1. \nContact: um.ai@maine.edu
URL:https://ai.umaine.edu/event/education-and-workforce-development/
LOCATION:Virtual
CATEGORIES:Lunch and Learn
END:VEVENT
BEGIN:VEVENT
DTSTART;TZID=America/New_York:20201001T120000
DTEND;TZID=America/New_York:20201001T130000
DTSTAMP:20260423T152846
CREATED:20200807T180742Z
LAST-MODIFIED:20200913T222620Z
UID:10000009-1601553600-1601557200@ai.umaine.edu
SUMMARY:Applications of AI in Business\, Industry\, Government\, Healthcare and Environment
DESCRIPTION:This one-hour live webinar is the first in the UMaine AI Fall Lunch and Learn series. Those interested in attending the free Zoom session must register online via this form. \nGuest speakers will discuss topics with time for Q&A. \n\nMohamad Musavi\, Associate Dean of Engineering\, UMaine\nOwen McCarthy\, President and Co-founder of MedRhythms Inc.\nSomayeh Khosroazad\, Software Architect at Activas Diagnostics\n\n2020 Fall Lunch and Learn Flyer \nSponsored by the University of Maine\, IEEE Maine COM/CS Joint Chapter and IEEE Region-1. \nContact: um.ai@maine.edu
URL:https://ai.umaine.edu/event/applications-of-ai-in-business-industry-government-healthcare-and-environment/
CATEGORIES:Lunch and Learn
END:VEVENT
BEGIN:VEVENT
DTSTART;TZID=America/New_York:20200903T120000
DTEND;TZID=America/New_York:20200903T130000
DTSTAMP:20260423T152846
CREATED:20200804T173516Z
LAST-MODIFIED:20200913T222627Z
UID:10000008-1599134400-1599138000@ai.umaine.edu
SUMMARY:Advances in Artificial Intelligence
DESCRIPTION:This one-hour live webinar is the first in the UMaine AI Fall Lunch and Learn series. Those interested in attending the free Zoom session must register online via this form. \nGuest speakers will discuss topics ranging from funding opportunities in AI to advances in radio frequency fingerprinting with time for Q&A. \n\nRebecca Hwa\, National Science Foundation\, Program Director\nKaushik Chowdhury\, Associate Director of the Institute for the Wireless Internet of Things\, Northeastern University\nFawzi Behmann\, North American Director of IEEE Communications Society\n\n2020 Fall Lunch and Learn Flyer \nSponsored by the University of Maine\, IEEE Maine COM/CS Joint Chapter and IEEE Region-1. \nContact: um.ai@maine.edu
URL:https://ai.umaine.edu/event/advances-in-artificial-intelligence/
CATEGORIES:Lunch and Learn
ATTACH;FMTTYPE=image/jpeg:https://ai.umaine.edu/wp-content/uploads/sites/563/2020/04/AI-Webinar-Post-Image.jpg
END:VEVENT
BEGIN:VEVENT
DTSTART;TZID=America/New_York:20200429T130000
DTEND;TZID=America/New_York:20200429T150000
DTSTAMP:20260423T152846
CREATED:20200414T204805Z
LAST-MODIFIED:20200420T152624Z
UID:10000007-1588165200-1588172400@ai.umaine.edu
SUMMARY:Maine Artificial Intelligence Webinar
DESCRIPTION:This webinar is for the Maine business community\, policymakers\, attorneys\, healthcare providers\, and other members of the public interested to learn about: \n\nAdvances in Artificial Intelligence – Moderator: Terry Yoo\, Associate Professor of Computer Science\, UMaine\n\nRoy Turner\, Associate Professor of Computer Science\, UMaine\nSalimeh Yasaei Sekeh\, Assistant Professor in Computer Science\, UMaine\nCarla Brodley\, Dean of Khoury College of Computer Sciences\, Northeastern\n\n\nApplications of AI in Business\, Industry\, Government\, Healthcare and Environment – Moderator: Ali Abedi\, Professor of Electrical and Computer Engineering and Assistant Vice President for Research\, UMaine\n\nKay Aikin\, Co-founder of Introspective Systems\nSepideh Ghanavati\, Assistant Professor of Computer Science\, UMaine\nYonggang “Tim” Lu\, Harold Alfond Associate Professor of Business Analytics\, Maine Business School\nAuroop Ganguly\, Professor of Civil and Environmental Engineering\, Director of the Sustainability and Data Science Laboratory\, Northeastern\n\n\nEducation and Workforce Development – Moderator: Penny Rheingans\, Director of the School of Computing and Information Science\, UMaine\n\nSharmila Mukhopadhyay\, Director of the Frontier Institute for Research in Sensor Technologies\, UMaine\nWalter Rawle\, Senior Principal Systems Engineer\, General Dynamics\nJason Judd\, Executive Director of Educate Maine\n\n\nSocial\, Ethical\, Policy and Legal Considerations – Moderator: Shaleen Jain\, Professor of Civil and Environmental Engineering\, UMaine\n\nJim Isaak\, Former President of IEEE Computer Society\nHarlan Onsrud\, Professor of Spatial Informatics\, UMaine\nPeter Guffin\, Co-Director of the Information Privacy Program\, University of Maine School of Law\n\n\n\nEach topic will be covered by a panel of experts\, with opportunities for Q&A. \nThe webinar is free and available to those who register at: \nRegistration Link for Maine AI Webinar \nThis webinar will be also recorded\, with each topic separately and asynchronously available online after the event. \nOrganized by: UMaine AI \nContact: research@maine.edu
URL:https://ai.umaine.edu/event/maine-artificial-intelligence-webinar/
ATTACH;FMTTYPE=image/jpeg:https://ai.umaine.edu/wp-content/uploads/sites/563/2020/04/AI-Webinar-Post-Image.jpg
END:VEVENT
END:VCALENDAR